BEGIN:VCALENDAR
VERSION:2.0
PRODID:-//Tukios.com/
BEGIN:VEVENT
UID:3ad6bd75-b257-4673-a738-59203eba8a0e@www.beverlydcromartiefs.com
DTSTAMP:20260422T032337Z
DTSTART:20260501
SUMMARY:Interment
DESCRIPTION:
URL:https://www.beverlydcromartiefs.com/obituaries/marie-johnson
LOCATION: 1101 Sulphur Spring Rd  Baltimore MD 21227
GEO:39.2444505;-76.7069552
END:VEVENT
END:VCALENDAR