BEGIN:VCALENDAR
VERSION:2.0
PRODID:-//Tukios.com/
BEGIN:VEVENT
UID:96d4e78e-f751-44f2-ab9a-1dc82cc5103b@www.beverlydcromartiefs.com
DTSTAMP:20260422T031315Z
DTSTART:20260501T143000Z
DTEND:20260501T153000Z
SUMMARY:Funeral Service
DESCRIPTION:
URL:https://www.beverlydcromartiefs.com/obituaries/marie-johnson
LOCATION: 4500 Liberty Heights Ave.  Gwynn Oak MD 21207
GEO:39.3309329;-76.6932439
END:VEVENT
END:VCALENDAR