BEGIN:VCALENDAR
VERSION:2.0
PRODID:-//Tukios.com/
BEGIN:VEVENT
UID:cd59d41f-ac6f-42bb-aa38-40d668bb87d6@www.beverlydcromartiefs.com
DTSTAMP:20260422T031556Z
DTSTART:20260501T140000Z
DTEND:20260501T143000Z
SUMMARY:Visitation
DESCRIPTION:
URL:https://www.beverlydcromartiefs.com/obituaries/marie-johnson
LOCATION: 4500 Liberty Heights Ave.  Gwynn Oak MD 21207
GEO:39.3309329;-76.6932439
END:VEVENT
END:VCALENDAR