BEGIN:VCALENDAR
VERSION:2.0
PRODID:-//Tukios.com/
BEGIN:VEVENT
UID:262ddba9-d58e-4405-89ab-c340e6f85e86@www.beverlydcromartiefs.com
DTSTAMP:20260422T032045Z
DTSTART:20260430T210000Z
DTEND:20260430T230000Z
SUMMARY:Viewing
DESCRIPTION:
URL:https://www.beverlydcromartiefs.com/obituaries/marie-johnson
LOCATION:First Church of the Brethren 4500 Liberty Heights Ave.  Gwynn 
	Oak MD 21207
GEO:39.3309329;-76.6932439
END:VEVENT
END:VCALENDAR