BEGIN:VCALENDAR
VERSION:2.0
PRODID:-//Tukios.com/
BEGIN:VEVENT
UID:e864835d-a920-4c93-adfe-2a6e5a08dd77@www.beverlydcromartiefs.com
DTSTAMP:20260423T114851Z
DTSTART:20260502T150000Z
DTEND:20260502T160000Z
SUMMARY:Homegoing Service
DESCRIPTION:
URL:https://www.beverlydcromartiefs.com/obituaries/ethel-cheatham
LOCATION: 119 S Stricker St  Baltimore MD 21223
GEO:39.2856002;-76.6406508
END:VEVENT
END:VCALENDAR