BEGIN:VCALENDAR
VERSION:2.0
PRODID:-//Tukios.com/
BEGIN:VEVENT
UID:6c168a07-92d4-49db-8da1-de0c60fbce51@www.beverlydcromartiefs.com
DTSTAMP:20260423T114931Z
DTSTART:20260502T140000Z
DTEND:20260502T150000Z
SUMMARY:Viewing
DESCRIPTION:
URL:https://www.beverlydcromartiefs.com/obituaries/ethel-cheatham
LOCATION: 119 S Stricker St  Baltimore MD 21223
GEO:39.2856002;-76.6406508
END:VEVENT
END:VCALENDAR